BEGIN:VCALENDAR
VERSION:2.0
PRODID:-//ChamberMaster//Event Calendar 2.0//EN
METHOD:PUBLISH
X-PUBLISHED-TTL:P3D
REFRESH-INTERVAL:P3D
CALSCALE:GREGORIAN
BEGIN:VEVENT
DTSTART:20211027T213000Z
DTEND:20211027T220000Z
X-MICROSOFT-CDO-ALLDAYEVENT:FALSE
SUMMARY:Youth Leadership Upson Orientation 2021
DESCRIPTION:Youth Leadership Upson 2021 Class will hold their first meeting with an orientation on Weds\, October 27 at 5:30 pm.
X-ALT-DESC;FMTTYPE=text/html:Youth Leadership Upson 2021 Class will hold their first meeting with an orientation on Weds\, October 27 at 5:30 pm.
LOCATION:The event will be held at the Upson EMC Warehouse\, located next door to the Upson EMC main office.
UID:e.2704.434
SEQUENCE:3
DTSTAMP:20260424T153302Z
URL:https://business.thomastongachamber.com/events/details/youth-leadership-upson-orientation-2021-434
END:VEVENT

END:VCALENDAR
