BEGIN:VCALENDAR
VERSION:2.0
PRODID:-//ChamberMaster//Event Calendar 2.0//EN
METHOD:PUBLISH
X-PUBLISHED-TTL:P3D
REFRESH-INTERVAL:P3D
CALSCALE:GREGORIAN
BEGIN:VEVENT
DTSTART:20210902T120000Z
DTEND:20210902T200000Z
X-MICROSOFT-CDO-ALLDAYEVENT:FALSE
SUMMARY:Youth Leadership Upson Deadline Sept 2
DESCRIPTION:Youth Leadership Upson\n\n \n\nThe mission of YOUTH LEADERSHIP UPSON is to expose selected high school students exhibiting leadership traits to the business\, political and civic working of our community.\n\nThis group is made up of seniors\, juniors and sophomores that are residents of Upson County and who have demonstrated outstanding leadership skills in their school\, church and community.  Each student is selected for a one-year school term and to successfully complete the program\, a student must attend each scheduled class.\n\nYouth Leadership Upson is sponsored by: Thomaston-Upson Chamber of Commerce\, Upson EMC\, Ten Cate Protective Fabrics\, Upson-Lee High School & Adult Leadership Upson.
X-ALT-DESC;FMTTYPE=text/html:<h1 style="box-sizing: border-box\; margin: 20px 0px 10px\; font-size: 1.5rem\; font-family: &quot\;Roboto Slab&quot\;\, Ubuntu\, sans-serif\; line-height: 1.1\; color: rgb(255\, 255\, 255)\; background-color: rgb(58\, 156\, 69)\;"><span style="box-sizing: border-box\; font-size: 36px\;"><u style="box-sizing: border-box\;"><span style="box-sizing: border-box\;">Youth Leadership Upson</span></u></span></h1>\n\n<p style="box-sizing: border-box\; margin: 0px 0px 10px\; font-size: 16px\; color: rgb(239\, 248\, 222)\; font-family: &quot\;Roboto Slab&quot\;\, Ubuntu\, sans-serif\; background-color: rgb(58\, 156\, 69)\;">&nbsp\;</p>\n\n<p style="box-sizing: border-box\; margin: 0px 0px 10px\; font-size: 16px\; color: rgb(239\, 248\, 222)\; font-family: &quot\;Roboto Slab&quot\;\, Ubuntu\, sans-serif\; background-color: rgb(58\, 156\, 69)\;"><span style="box-sizing: border-box\; color: rgb(0\, 0\, 0)\;">The mission of&nbsp\;<strong style="box-sizing: border-box\;">YOUTH LEADERSHIP UPSON</strong>&nbsp\;is to expose selected high school students exhibiting leadership traits to the business\, political and civic working of our community.</span></p>\n\n<p style="box-sizing: border-box\; margin: 0px 0px 10px\; font-size: 16px\; color: rgb(239\, 248\, 222)\; font-family: &quot\;Roboto Slab&quot\;\, Ubuntu\, sans-serif\; background-color: rgb(58\, 156\, 69)\;"><span style="box-sizing: border-box\; color: rgb(0\, 0\, 0)\;">This group is made up of seniors\, juniors and sophomores that are residents of Upson County and who have demonstrated outstanding leadership skills in their school\, church and community.&nbsp\; Each student is selected for a one-year school term and to successfully complete the program\, a student must attend each scheduled class.</span></p>\n\n<p style="box-sizing: border-box\; margin: 0px 0px 10px\; font-size: 16px\; color: rgb(239\, 248\, 222)\; font-family: &quot\;Roboto Slab&quot\;\, Ubuntu\, sans-serif\; background-color: rgb(58\, 156\, 69)\;"><span style="box-sizing: border-box\; color: rgb(0\, 0\, 0)\;">Youth Leadership Upson is sponsored by: Thomaston-Upson Chamber of Commerce\, Upson EMC\, Ten Cate Protective Fabrics\, Upson-Lee High School &amp\; Adult Leadership Upson.</span></p>\n
LOCATION:APPLICATIONS NOW BEING ACCEPTED FOR YLU PROGRAM Aug 16 - Sept 2\, 2021 If you are a Upson-Lee Sophomore\, Junior or Senior\, and are interested in applying for the Thomaston-Upson Chamber of Commerce's Youth Leadership Upson Program\, an Application and Recommendation forms can be picked up in the ULHS Guidance Counselors Office from Aug 16 - September 2. Students that are Upson County residents\, and also Upson EMC Members may also apply for this program. Forms can be picked up at the Chamber office\, 110 West Main Street in downtown Thomaston. Forms can also be printed from this page: Information Sheet\, Application Form\, Recommendation Forms\, Possible Conflict Dates Deadline to submit all forms is September 2. Students\, Please Do not wait until the last minute to begin working on your application. *Applications are judged by out of town individuals and the 12 students with the highest scores on their applications will be selected. If you have questions\, please feel free to contact us at 706-647-9686.
UID:e.2704.415
SEQUENCE:3
DTSTAMP:20260424T152222Z
URL:https://business.thomastongachamber.com/events/details/youth-leadership-upson-deadline-sept-2-415
END:VEVENT

END:VCALENDAR
