BEGIN:VCALENDAR
VERSION:2.0
PRODID:-//ChamberMaster//Event Calendar 2.0//EN
METHOD:PUBLISH
X-PUBLISHED-TTL:P3D
REFRESH-INTERVAL:P3D
CALSCALE:GREGORIAN
BEGIN:VEVENT
DTSTART:20211020T150000Z
DTEND:20211020T160000Z
X-MICROSOFT-CDO-ALLDAYEVENT:FALSE
SUMMARY:You're Hired! - Thomaston
DESCRIPTION:This course is designed to help small business owners create an environment that will attract\, retain\, and sustain talent. The course will also allow owners to evaluate their HR practices while challenging them to create best practices that will get the results they desire when it comes to hiring. Course Outline Discussion will include: *Creating a culture that includes clear vision\, mission\, and core values that people want to be a part of. *Creating an environment that will reduce turnover and increase morale. Learner Outcomes Attendees will gain an understanding of: *How to attract\, retain\, and sustain a team. *Best practices for hiring employees.
X-ALT-DESC;FMTTYPE=text/html:This course is designed to help small business owners create an environment that will attract\, retain\, and sustain talent. The course will also allow owners to evaluate their HR practices while challenging them to create best practices that will get the results they desire when it comes to hiring. Course Outline Discussion will include: *Creating a culture that includes clear vision\, mission\, and core values that people want to be a part of. *Creating an environment that will reduce turnover and increase morale. Learner Outcomes Attendees will gain an understanding of: *How to attract\, retain\, and sustain a team. *Best practices for hiring employees.
LOCATION:Webinar Hosted by Thomaston-Upson Chamber of Commerce and UGA Small Business Development Center
UID:e.2704.426
SEQUENCE:3
DTSTAMP:20260424T134442Z
URL:https://business.thomastongachamber.com/events/details/you-re-hired-thomaston-426
END:VEVENT

END:VCALENDAR
