BEGIN:VCALENDAR
VERSION:2.0
PRODID:-//ChamberMaster//Event Calendar 2.0//EN
METHOD:PUBLISH
X-PUBLISHED-TTL:P3D
REFRESH-INTERVAL:P3D
CALSCALE:GREGORIAN
BEGIN:VEVENT
DTSTART:20210921T160000Z
DTEND:20210921T170000Z
X-MICROSOFT-CDO-ALLDAYEVENT:FALSE
SUMMARY:You're Hired!
DESCRIPTION:This course is designed to help small business owners create an environment that will attract\, retain\, and sustain talent. The course will also allow owners to evaluate their HR practices while challenging them to create best practices that will get the results they desire when it comes to hiring. Discussion will include: *Creating a culture that includes clear vision\, mission\, and core values that people want to be a part of. *Creating an environment that will reduce turnover and increase morale.
X-ALT-DESC;FMTTYPE=text/html:This course is designed to help small business owners create an environment that will attract\, retain\, and sustain talent. The course will also allow owners to evaluate their HR practices while challenging them to create best practices that will get the results they desire when it comes to hiring. Discussion will include: *Creating a culture that includes clear vision\, mission\, and core values that people want to be a part of. *Creating an environment that will reduce turnover and increase morale.
LOCATION:Webinar hosted by UGA Small Business Development Center in Columbus
UID:e.2704.422
SEQUENCE:3
DTSTAMP:20260424T152202Z
URL:https://business.thomastongachamber.com/events/details/you-re-hired-422
END:VEVENT

END:VCALENDAR
