BEGIN:VCALENDAR
VERSION:2.0
PRODID:-//ChamberMaster//Event Calendar 2.0//EN
METHOD:PUBLISH
X-PUBLISHED-TTL:P3D
REFRESH-INTERVAL:P3D
CALSCALE:GREGORIAN
BEGIN:VEVENT
DTSTART:20220618T150000Z
DTEND:20220618T170000Z
X-MICROSOFT-CDO-ALLDAYEVENT:FALSE
SUMMARY:What To Do When You See Blue\, Beyond The Bell Special Event
DESCRIPTION:It's very important to learn about your rights if you are stopped by the police\, your rights if you are stopped in your car\, & your rights if you are arrested & how to remain calm & focused.
X-ALT-DESC;FMTTYPE=text/html:It&#39\;s very important to learn about your rights if you are stopped by the police\, your rights if you are stopped in your car\, &amp\; your rights if you are arrested &amp\; how to remain calm &amp\; focused.&nbsp\;
LOCATION:Silvertown Baptist Church 300 West Goodrich Ave Thomaston GA 30286
UID:e.2704.455
SEQUENCE:3
DTSTAMP:20260424T001026Z
URL:https://business.thomastongachamber.com/events/details/what-to-do-when-you-see-blue-beyond-the-bell-special-event-455
END:VEVENT

END:VCALENDAR
