BEGIN:VCALENDAR
VERSION:2.0
PRODID:-//ChamberMaster//Event Calendar 2.0//EN
METHOD:PUBLISH
X-PUBLISHED-TTL:P3D
REFRESH-INTERVAL:P3D
CALSCALE:GREGORIAN
BEGIN:VEVENT
DTSTART:20220824T140000Z
DTEND:20220824T153000Z
X-MICROSOFT-CDO-ALLDAYEVENT:FALSE
SUMMARY:What Gets Measured - Gets Done! Webinar
DESCRIPTION:With growth comes amazing opportunities and challenges. Looking for a way to ensure time\, money\, and resources of your business is being used to the fullest? Then this is the webinar for you! This webinar is designed to teach you about key performance indicators (KPI's)\, the most common types used\, and a process to help determine which will be the most effective for your business. Understanding what needs to be measured and how to measure it\, then the sky is the limit in terms of growth and profitability! Course Outline: *Will learn what key performance indicators are and how to use them. *Will learn the top key performance indicators used to measure performance. *Learn a process to determine what needs to be measured in a business.
X-ALT-DESC;FMTTYPE=text/html:With growth comes amazing opportunities and challenges. Looking for a way to ensure time\, money\, and resources of your business is being used to the fullest? Then this is the webinar for you! This webinar is designed to teach you about key performance indicators (KPI&rsquo\;s)\, the most common types used\, and a process to help determine which will be the most effective for your business. Understanding what needs to be measured and how to measure it\, then the sky is the limit in terms of growth and profitability! Course Outline: *Will learn what key performance indicators are and how to use them. *Will learn the top key performance indicators used to measure performance. *Learn a process to determine what needs to be measured in a business.
LOCATION:Webinar Hosted by UGA Small Business Development Center in Columbus
UID:e.2704.461
SEQUENCE:3
DTSTAMP:20260423T211948Z
URL:https://business.thomastongachamber.com/events/details/what-gets-measured-gets-done-webinar-461
END:VEVENT

END:VCALENDAR
