BEGIN:VCALENDAR
VERSION:2.0
PRODID:-//ChamberMaster//Event Calendar 2.0//EN
METHOD:PUBLISH
X-PUBLISHED-TTL:P3D
REFRESH-INTERVAL:P3D
CALSCALE:GREGORIAN
BEGIN:VEVENT
DTSTART:20210828T150000Z
DTEND:20210828T160000Z
X-MICROSOFT-CDO-ALLDAYEVENT:FALSE
SUMMARY:Vietnam Veterans Recognition Event
DESCRIPTION:Georgia Salutes You\, Vietnam Veterans! Hosted by the John Houston DAR Chapter Daughters of the American Revolution
X-ALT-DESC;FMTTYPE=text/html:Georgia Salutes You\, Vietnam Veterans! Hosted by the John Houston DAR Chapter Daughters of the American Revolution
LOCATION:First Baptist Church Fellowship Hall - 208 South Church Street\, Thomaston GA
UID:e.2704.414
SEQUENCE:3
DTSTAMP:20260424T163018Z
URL:https://business.thomastongachamber.com/events/details/vietnam-veterans-recognition-event-414
END:VEVENT

END:VCALENDAR
