BEGIN:VCALENDAR
VERSION:2.0
PRODID:-//ChamberMaster//Event Calendar 2.0//EN
METHOD:PUBLISH
X-PUBLISHED-TTL:P3D
REFRESH-INTERVAL:P3D
CALSCALE:GREGORIAN
BEGIN:VEVENT
DTSTART:20221103T150000Z
DTEND:20221103T163000Z
X-MICROSOFT-CDO-ALLDAYEVENT:FALSE
SUMMARY:The Big Three & Your Business Webinar
DESCRIPTION:Do you wish the reports you receive from QuickBooks or your CPA were more than just numbers and words? Would you like to truly understand how the three critical business financial statements are created\, how to analyze them\, and use the information to make better business decisions? This class is designed to help managers understand and utilize the balance sheet\, income statement\, and statement of cash flows to improve their business decision making. Participants will gain a better understanding of both how the statements were calculated and the best practices for using the reports to become a better financial manager. More information and registration on the below link. Join us on November 3rd!
X-ALT-DESC;FMTTYPE=text/html:Do you wish the reports you receive from QuickBooks or your CPA were more than just numbers and words? Would you like to truly understand how the three critical business financial statements are created\, how to analyze them\, and use the information to make better business decisions? This class is designed to help managers understand and utilize the balance sheet\, income statement\, and statement of cash flows to improve their business decision making. Participants will gain a better understanding of both how the statements were calculated and the best practices for using the reports to become a better financial manager. More information and registration on the below link. Join us on November 3rd!
LOCATION:Webinar hosted by the UGA SBDC in Columbus
UID:e.2704.464
SEQUENCE:3
DTSTAMP:20260423T165906Z
URL:https://business.thomastongachamber.com/events/details/the-big-three-your-business-webinar-464
END:VEVENT

END:VCALENDAR
