BEGIN:VCALENDAR
VERSION:2.0
PRODID:-//ChamberMaster//Event Calendar 2.0//EN
METHOD:PUBLISH
X-PUBLISHED-TTL:P3D
REFRESH-INTERVAL:P3D
CALSCALE:GREGORIAN
BEGIN:VEVENT
DTSTART:20220518T130000Z
DTEND:20220518T143000Z
X-MICROSOFT-CDO-ALLDAYEVENT:FALSE
SUMMARY:Target Your Market Using Buyer Personas - Thomaston
DESCRIPTION:Buyer personas are fictional representations of your ideal customers. Developing buyer personas gives you a clear picture of who you're marketing to\, where to find them and makes it easier to develop effective\, targeted content that speaks to your ideal customers. This in-person class will show you how you can create buyer personas and use them to develop a marketing strategy that will help you bring in more customers. Course Outline: *What are buyer personas *How to use buyer personas *Segmentation *Behavior *Motivation *Objectives *Examples *The Process
X-ALT-DESC;FMTTYPE=text/html:Buyer personas are fictional representations of your ideal customers. Developing buyer personas gives you a clear picture of who you&#39\;re marketing to\, where to find them and makes it easier to develop effective\, targeted content that speaks to your ideal customers. This in-person class will show you how you can create buyer personas and use them to develop a marketing strategy that will help you bring in more customers. Course Outline: *What are buyer personas *How to use buyer personas *Segmentation *Behavior *Motivation *Objectives *Examples *The Process
LOCATION:Thomaston-Upson Chamber of Commerce 110 West Main Street\, Thomaston\, GA 30286
UID:e.2704.456
SEQUENCE:3
DTSTAMP:20260424T011614Z
URL:https://business.thomastongachamber.com/events/details/target-your-market-using-buyer-personas-thomaston-456
END:VEVENT

END:VCALENDAR
