BEGIN:VCALENDAR
VERSION:2.0
PRODID:-//ChamberMaster//Event Calendar 2.0//EN
METHOD:PUBLISH
X-PUBLISHED-TTL:P3D
REFRESH-INTERVAL:P3D
CALSCALE:GREGORIAN
BEGIN:VEVENT
DTSTART:20220927T220000Z
DTEND:20221021T003000Z
X-MICROSOFT-CDO-ALLDAYEVENT:FALSE
SUMMARY:StartSmart Columbus/Carrollton
DESCRIPTION:Whether you are a new business (in business 2 years or less)\, or are still in the planning phase\, building a business takes the right tools and a lot of hard work. SBDC StartSmart will equip you to be successful! SBDC StartSmart helps attendees to:  Evaluate & refine your business concept  Improve your knowledge of business concepts  Research markets and competition  Develop a financial forecast to improve chances of success  Develop a thorough\, practical business plan  On-going consulting from SBDC professionals keeps you on track SBDC StartSmart was developed by the University of Georgia Small Business Development Center. This year's multi-day program is tailored to being held virtually to facilitate virtual discussion\, class engagement\, & mastery of content. Participation in StartSmart will also allow access to online business planning software. The program is facilitated by specially trained SBDC consultants and a long-term relationship with the SBDC and follow-up consulting is available and encouraged. *Application Acceptance Required Apply today!
X-ALT-DESC;FMTTYPE=text/html:Whether you are a new business (in business 2 years or less)\, or are still in the planning phase\, building a business takes the right tools&mdash\;and a lot of hard work. SBDC StartSmart will equip you to be successful! SBDC StartSmart helps attendees to: &bull\;Evaluate &amp\; refine your business concept &bull\;Improve your knowledge of business concepts &bull\;Research markets and competition &bull\;Develop a financial forecast to improve chances of success &bull\;Develop a thorough\, practical business plan &bull\;On-going consulting from SBDC professionals keeps you on track SBDC StartSmart was developed by the University of Georgia Small Business Development Center. This year&rsquo\;s multi-day program is tailored to being held virtually to facilitate virtual discussion\, class engagement\, &amp\; mastery of content. Participation in StartSmart will also allow access to online business planning software. The program is facilitated by specially trained SBDC consultants and a long-term relationship with the SBDC and follow-up consulting is available and encouraged. *Application Acceptance Required Apply today!
LOCATION:Multi-day Webinar Hosted by the UGA SBDC Offices in Columbus and Carrollton
UID:e.2704.460
SEQUENCE:3
DTSTAMP:20260423T183402Z
URL:https://business.thomastongachamber.com/events/details/startsmart-columbus-carrollton-460
END:VEVENT

END:VCALENDAR
