BEGIN:VCALENDAR
VERSION:2.0
PRODID:-//ChamberMaster//Event Calendar 2.0//EN
METHOD:PUBLISH
X-PUBLISHED-TTL:P3D
REFRESH-INTERVAL:P3D
CALSCALE:GREGORIAN
BEGIN:VEVENT
DTSTART:20220803T150000Z
DTEND:20220803T170000Z
X-MICROSOFT-CDO-ALLDAYEVENT:FALSE
SUMMARY:Starting a Business Webinar
DESCRIPTION:Are you thinking about becoming your own boss? Our Starting a Business Course covers all areas that are involved in starting your own business. This class will cover important tools and resources a business owner needs to establish a solid foundation during its early formative years. Often\, new business owners "don't know what they don't know". This class will equip you to be able to ask all the right questions as you are planning and forming your brand new business. Course Outline: *Getting Started *Is your Business Idea Feasible? *Financing Your Business *Building Your Team *Operating Your Business Legally *Putting it all Together
X-ALT-DESC;FMTTYPE=text/html:Are you thinking about becoming your own boss? Our Starting a Business Course covers all areas that are involved in starting your own business. This class will cover important tools and resources a business owner needs to establish a solid foundation during its early formative years. Often\, new business owners &quot\;don&#39\;t know what they don&#39\;t know&quot\;. This class will equip you to be able to ask all the right questions as you are planning and forming your brand new business. Course Outline: *Getting Started *Is your Business Idea Feasible? *Financing Your Business *Building Your Team *Operating Your Business Legally *Putting it all Together
LOCATION:Webinar Hosted by UGA Small Business Development Center in Columbus
UID:e.2704.462
SEQUENCE:3
DTSTAMP:20260423T212135Z
URL:https://business.thomastongachamber.com/events/details/starting-a-business-webinar-462
END:VEVENT

END:VCALENDAR
