BEGIN:VCALENDAR
VERSION:2.0
PRODID:-//ChamberMaster//Event Calendar 2.0//EN
METHOD:PUBLISH
X-PUBLISHED-TTL:P3D
REFRESH-INTERVAL:P3D
CALSCALE:GREGORIAN
BEGIN:VEVENT
DTSTART:20211208T170000Z
DTEND:20211208T180000Z
X-MICROSOFT-CDO-ALLDAYEVENT:FALSE
SUMMARY:QuickBooks Online End of the Year Tips Webinar
DESCRIPTION:As the end of the year has approached\, you and your accountant will need to complete certain tasks in QuickBooks Online to close out the old year and prepare for the new one. Year-end processes for QuickBooks Online is a topic we see an abundance of questions from our clients and it would be a timely to explore more. This course will help guide you through these year-end tasks to make the ending of one year and the beginning of another easier. Join Us! More details on our website listed below.
X-ALT-DESC;FMTTYPE=text/html:As the end of the year has approached\, you and your accountant will need to complete certain tasks in QuickBooks Online to close out the old year and prepare for the new one. Year-end processes for QuickBooks Online is a topic we see an abundance of questions from our clients and it would be a timely to explore more. This course will help guide you through these year-end tasks to make the ending of one year and the beginning of another easier. Join Us! More details on our website listed below.
LOCATION:Webinar Hosted by the UGA Small Business Development Center
UID:e.2704.442
SEQUENCE:3
DTSTAMP:20260424T095829Z
URL:https://business.thomastongachamber.com/events/details/quickbooks-online-end-of-the-year-tips-webinar-442
END:VEVENT

END:VCALENDAR
