BEGIN:VCALENDAR
VERSION:2.0
PRODID:-//ChamberMaster//Event Calendar 2.0//EN
METHOD:PUBLISH
X-PUBLISHED-TTL:P3D
REFRESH-INTERVAL:P3D
CALSCALE:GREGORIAN
BEGIN:VEVENT
DTSTART;VALUE=DATE:20220330
DTEND;VALUE=DATE:20220402
TRANSP:TRANSPARENT
X-MICROSOFT-CDO-ALLDAYEVENT:TRUE
SUMMARY:Our Office Will Be Closed March 30\, 2022 through April 1\, 2022
DESCRIPTION:Our office will be closed March 30\, 2022\, through April 1\, 2022\, so that we may attend the GACCE Staff Leadership Conference in Atlanta GA. Our office will re-open to the public on Monday\, April 4\, 2022\, at 8:30 am.
X-ALT-DESC;FMTTYPE=text/html:Our office will be closed March 30\, 2022\, through April 1\, 2022\, so that we may attend the GACCE Staff Leadership Conference in Atlanta GA. Our office will re-open to the public on Monday\, April 4\, 2022\, at 8:30 am.
LOCATION:Thomaston-Upson Chamber of Commerce 110 West Main Street Thomaston GA 30286
UID:e.2704.453
SEQUENCE:3
DTSTAMP:20260424T044027Z
URL:https://business.thomastongachamber.com/events/details/our-office-will-be-closed-march-30-2022-through-april-1-2022-453
END:VEVENT

END:VCALENDAR
