BEGIN:VCALENDAR
VERSION:2.0
PRODID:-//ChamberMaster//Event Calendar 2.0//EN
METHOD:PUBLISH
X-PUBLISHED-TTL:P3D
REFRESH-INTERVAL:P3D
CALSCALE:GREGORIAN
BEGIN:VEVENT
DTSTART;VALUE=DATE:20211231
DTEND;VALUE=DATE:20220104
TRANSP:TRANSPARENT
X-MICROSOFT-CDO-ALLDAYEVENT:TRUE
SUMMARY:Our Office will be closed for New Years
DESCRIPTION:Our office will be closed for New Years December 31\, 2021 through January 03\, 2022. We will reopen on January 4th at 8:30 a.m.
X-ALT-DESC;FMTTYPE=text/html:Our office will be closed for New Years December 31\, 2021 through January 03\, 2022. We will reopen on January 4th at 8:30 a.m.
LOCATION:Thomaston-Upson Chamber of Commerce
UID:e.2704.432
SEQUENCE:3
DTSTAMP:20260424T075831Z
URL:https://business.thomastongachamber.com/events/details/our-office-will-be-closed-for-new-years-432
END:VEVENT

END:VCALENDAR
