BEGIN:VCALENDAR
VERSION:2.0
PRODID:-//ChamberMaster//Event Calendar 2.0//EN
METHOD:PUBLISH
X-PUBLISHED-TTL:P3D
REFRESH-INTERVAL:P3D
CALSCALE:GREGORIAN
BEGIN:VEVENT
DTSTART;VALUE=DATE:20220530
DTEND;VALUE=DATE:20220531
TRANSP:TRANSPARENT
X-MICROSOFT-CDO-ALLDAYEVENT:TRUE
SUMMARY:Our Office will be closed for Memorial Day
DESCRIPTION:Our office will be closed Monday\, May 30th for Memorial Day. We will reopen on Tuesday\, May 31st at 8:30 am.
X-ALT-DESC;FMTTYPE=text/html:Our office will be closed Monday\, May 30th for Memorial Day. We will reopen on Tuesday\, May 31st at 8:30 am.
LOCATION:Thomaston-Upson Chamber of Commerce 110 West Main Street Thomaston GA 30286
UID:e.2704.447
SEQUENCE:3
DTSTAMP:20260424T012333Z
URL:https://business.thomastongachamber.com/events/details/our-office-will-be-closed-for-memorial-day-447
END:VEVENT

END:VCALENDAR
