BEGIN:VCALENDAR
VERSION:2.0
PRODID:-//ChamberMaster//Event Calendar 2.0//EN
METHOD:PUBLISH
X-PUBLISHED-TTL:P3D
REFRESH-INTERVAL:P3D
CALSCALE:GREGORIAN
BEGIN:VEVENT
DTSTART;VALUE=DATE:20220415
DTEND;VALUE=DATE:20220416
TRANSP:TRANSPARENT
X-MICROSOFT-CDO-ALLDAYEVENT:TRUE
SUMMARY:Our Office will be closed for Good Friday
DESCRIPTION:Our office will be closed Friday\, April 15th for Good Friday. We will reopen Monday\, April 18th at 8:30 am.
X-ALT-DESC;FMTTYPE=text/html:Our office will be closed Friday\, April 15th for Good Friday. We will reopen Monday\, April 18th at 8:30 am.
LOCATION:Thomaston-Upson Chamber of Commerce 110 West Main Street Thomaston GA 30286
UID:e.2704.446
SEQUENCE:3
DTSTAMP:20260424T023549Z
URL:https://business.thomastongachamber.com/events/details/our-office-will-be-closed-for-good-friday-446
END:VEVENT

END:VCALENDAR
