BEGIN:VCALENDAR
VERSION:2.0
PRODID:-//ChamberMaster//Event Calendar 2.0//EN
METHOD:PUBLISH
X-PUBLISHED-TTL:P3D
REFRESH-INTERVAL:P3D
CALSCALE:GREGORIAN
BEGIN:VEVENT
DTSTART;VALUE=DATE:20221226
DTEND;VALUE=DATE:20230103
TRANSP:TRANSPARENT
X-MICROSOFT-CDO-ALLDAYEVENT:TRUE
SUMMARY:Our Office will be closed for Christmas
DESCRIPTION:Our office will be closed for Christmas\, December 26th\, 2022 through January 2nd\, 2023. We will reopen on January 3rd at 8:30 a.m.
X-ALT-DESC;FMTTYPE=text/html:Our office will be closed for Christmas\, December 26th\, 2022 through January 2nd\, 2023. We will reopen on January 3rd at 8:30 a.m.
LOCATION:Thomaston-Upson Chamber of Commerce
UID:e.2704.431
SEQUENCE:3
DTSTAMP:20260423T142650Z
URL:https://business.thomastongachamber.com/events/details/our-office-will-be-closed-for-christmas-431
END:VEVENT

END:VCALENDAR
