BEGIN:VCALENDAR
VERSION:2.0
PRODID:-//ChamberMaster//Event Calendar 2.0//EN
METHOD:PUBLISH
X-PUBLISHED-TTL:P3D
REFRESH-INTERVAL:P3D
CALSCALE:GREGORIAN
BEGIN:VEVENT
DTSTART:20211013T140000Z
DTEND:20211013T180000Z
X-MICROSOFT-CDO-ALLDAYEVENT:FALSE
SUMMARY:Job Fair 2021
DESCRIPTION:Job Fair 2021\n\nEvent will take place at the Thomaston-Upson Civic Center\n\n10 am to 2 pm\n\nEmployers that would like to attend\, please call Lori or Nicole @ 706-647-9686 or Kim @ 706-647-9691.
X-ALT-DESC;FMTTYPE=text/html:Job Fair 2021<br />\nEvent will take place at the Thomaston-Upson Civic Center<br />\n10 am to 2 pm<br />\nEmployers that would like to attend\, please call Lori or Nicole @ 706-647-9686 or Kim @ 706-647-9691.
LOCATION:
UID:e.2704.421
SEQUENCE:3
DTSTAMP:20260424T134436Z
URL:https://business.thomastongachamber.com/events/details/job-fair-2021-421
END:VEVENT

END:VCALENDAR
