BEGIN:VCALENDAR
VERSION:2.0
PRODID:-//ChamberMaster//Event Calendar 2.0//EN
METHOD:PUBLISH
X-PUBLISHED-TTL:P3D
REFRESH-INTERVAL:P3D
CALSCALE:GREGORIAN
BEGIN:VEVENT
DTSTART:20211029T160000Z
DTEND:20211029T170000Z
X-MICROSOFT-CDO-ALLDAYEVENT:FALSE
SUMMARY:How to Write a Dynamic Business Plan Webinar
DESCRIPTION:A customized step by step integrated action plan that is essential to the success of your business. Who should attend: Launch (businesses 0-2 years)\, Growth (businesses 3-5 years)\, Expansion Startups (businesses 5+ years) Course Outline: *Sections of a Business Plan *Format of a Business Plan *Balance Sheet *Financial Projections *Capital Equipment List *Sources of Capital Learner Outcomes: *Use the business plan tool or template that works for you. *Have a clear understanding of who your customer is. *Start with your company description and proceed step-by-step. *It's OK if you don't have all information for each section. You can go back and fill in missing parts later. Start with a strong financial foundation. Projections are key!
X-ALT-DESC;FMTTYPE=text/html:A customized step by step integrated action plan that is essential to the success of your business. Who should attend: Launch (businesses 0-2 years)\, Growth (businesses 3-5 years)\, Expansion Startups (businesses 5+ years) Course Outline: *Sections of a Business Plan *Format of a Business Plan *Balance Sheet *Financial Projections *Capital Equipment List *Sources of Capital Learner Outcomes: *Use the business plan tool or template that works for you. *Have a clear understanding of who your customer is. *Start with your company description and proceed step-by-step. *It&rsquo\;s OK if you don&rsquo\;t have all information for each section. You can go back and fill in missing parts later. Start with a strong financial foundation. Projections are key!
LOCATION:Webinar Hosted by the UGA Small Business Development Center
UID:e.2704.428
SEQUENCE:3
DTSTAMP:20260424T135257Z
URL:https://business.thomastongachamber.com/events/details/how-to-write-a-dynamic-business-plan-webinar-428
END:VEVENT

END:VCALENDAR
