BEGIN:VCALENDAR
VERSION:2.0
PRODID:-//ChamberMaster//Event Calendar 2.0//EN
METHOD:PUBLISH
X-PUBLISHED-TTL:P3D
REFRESH-INTERVAL:P3D
CALSCALE:GREGORIAN
BEGIN:VEVENT
DTSTART:20220726T160000Z
DTEND:20220726T170000Z
X-MICROSOFT-CDO-ALLDAYEVENT:FALSE
SUMMARY:How to WOW a Lender Webinar
DESCRIPTION:Is your business seeking a loan? Always placing your best foot forward is vital to success! When approaching a bank for a loan\, there are certain things you need to be aware of to be successful and to WOW your lender   especially in today's environment. In this webinar the presenter will walk through the top 4 things lenders look at when reviewing loan packages. They will also discuss the questions the borrow will be asked as well questions the borrow can ask the lender. Understanding what they are looking for and making sure you understand what is required of you is key. Course Outline: -Identifying the key components that can make or break a loan -The typical process a lender goes through when evaluating a loan -Identifying the questions that a lender will ask when looking at your loan Learner Outcomes: -Learn what questions a lender could ask a borrower -Learn the traditional thought process lenders use when reviewing a loan request -Learn the questions to ask lenders to set up your business for success
X-ALT-DESC;FMTTYPE=text/html:Is your business seeking a loan? Always placing your best foot forward is vital to success! When approaching a bank for a loan\, there are certain things you need to be aware of to be successful and to WOW your lender &ndash\; especially in today&rsquo\;s environment. In this webinar the presenter will walk through the top 4 things lenders look at when reviewing loan packages. They will also discuss the questions the borrow will be asked as well questions the borrow can ask the lender. Understanding what they are looking for and making sure you understand what is required of you is key. Course Outline: -Identifying the key components that can make or break a loan -The typical process a lender goes through when evaluating a loan -Identifying the questions that a lender will ask when looking at your loan Learner Outcomes: -Learn what questions a lender could ask a borrower -Learn the traditional thought process lenders use when reviewing a loan request -Learn the questions to ask lenders to set up your business for success
LOCATION:Webinar hosted by the UGA Small Business Development Center
UID:e.2704.459
SEQUENCE:3
DTSTAMP:20260423T225946Z
URL:https://business.thomastongachamber.com/events/details/how-to-wow-a-lender-webinar-459
END:VEVENT

END:VCALENDAR
