BEGIN:VCALENDAR
VERSION:2.0
PRODID:-//ChamberMaster//Event Calendar 2.0//EN
METHOD:PUBLISH
X-PUBLISHED-TTL:P3D
REFRESH-INTERVAL:P3D
CALSCALE:GREGORIAN
BEGIN:VEVENT
DTSTART:20211101T160000Z
DTEND:20211101T170000Z
X-MICROSOFT-CDO-ALLDAYEVENT:FALSE
SUMMARY:Government Roundtable Meeting
DESCRIPTION:Government Roundtable Meeting will be held on Monday\, November 1\, 2021 @ Noon
X-ALT-DESC;FMTTYPE=text/html:Government Roundtable Meeting will be held on Monday\, November 1\, 2021 @ Noon
LOCATION:The lunch meeting will take place at the Firing Range off of Hwy 74 East.
UID:e.2704.435
SEQUENCE:3
DTSTAMP:20260424T120110Z
URL:https://business.thomastongachamber.com/events/details/government-roundtable-meeting-435
END:VEVENT

END:VCALENDAR
