BEGIN:VCALENDAR
VERSION:2.0
PRODID:-//ChamberMaster//Event Calendar 2.0//EN
METHOD:PUBLISH
X-PUBLISHED-TTL:P3D
REFRESH-INTERVAL:P3D
CALSCALE:GREGORIAN
BEGIN:VEVENT
DTSTART:20211211T230000Z
DTEND:20211212T003000Z
X-MICROSOFT-CDO-ALLDAYEVENT:FALSE
SUMMARY:Christmas Lane 5K Run/Walk
DESCRIPTION:Thomaston-Upson Chamber of Commerce Presents:\n\nChristmas Lane 5K Run/Walk\n\n5K Run/Walk will begin/end @ Silvertown Baptist Church on Dec 11\, pass through the Greatest Generation Park and down Christmas Lane/R Street\, Thomaston Ga
X-ALT-DESC;FMTTYPE=text/html:Thomaston-Upson Chamber of Commerce Presents:<br />\nChristmas Lane 5K Run/Walk<br />\n5K Run/Walk will begin/end @ Silvertown Baptist Church on Dec 11\, pass through the Greatest Generation Park and down Christmas Lane/R Street\, Thomaston Ga
LOCATION:Thomaston\, Georgia - Christmas Lane/R Street - Historical Silvertown Subdivision
UID:e.2704.438
SEQUENCE:3
DTSTAMP:20260424T102107Z
URL:https://business.thomastongachamber.com/events/details/christmas-lane-5k-run-walk-438
END:VEVENT

END:VCALENDAR
