BEGIN:VCALENDAR
VERSION:2.0
PRODID:-//ChamberMaster//Event Calendar 2.0//EN
METHOD:PUBLISH
X-PUBLISHED-TTL:P3D
REFRESH-INTERVAL:P3D
CALSCALE:GREGORIAN
BEGIN:VEVENT
DTSTART:20230331T130000Z
DTEND:20230331T200000Z
X-MICROSOFT-CDO-ALLDAYEVENT:FALSE
SUMMARY:Business Open Golf Tournament
DESCRIPTION:Annual Business Open Golf Tournament\n\n**TEAM SPOTS ARE FULL** TO BE PLACED ON A WAITING LIST\, CALL 706-647-9686
X-ALT-DESC;FMTTYPE=text/html:Annual Business Open Golf Tournament<br />\n**TEAM SPOTS ARE FULL** TO BE PLACED ON A WAITING LIST\, CALL 706-647-9686<br />\n&nbsp\;
LOCATION:Raintree Golf Course
UID:e.2704.384
SEQUENCE:3
DTSTAMP:20260419T172241Z
URL:https://business.thomastongachamber.com/events/details/business-open-golf-tournament-384
END:VEVENT

END:VCALENDAR
