BEGIN:VCALENDAR
VERSION:2.0
PRODID:-//ChamberMaster//Event Calendar 2.0//EN
METHOD:PUBLISH
X-PUBLISHED-TTL:P3D
REFRESH-INTERVAL:P3D
CALSCALE:GREGORIAN
BEGIN:VEVENT
DTSTART:20220805T210000Z
DTEND:20220806T020000Z
X-MICROSOFT-CDO-ALLDAYEVENT:FALSE
SUMMARY:2022 Concert Rock on the Block
DESCRIPTION:Thomaston-Upson Chamber of Commerce Presents Rock on the Block featuring Headgames-a tribute to Foreigner & Restless Natives-a tribute to the Allman Brothers Band\n\nBring your chair & enjoy the music!\n\nOutside food is allowed.\n\nNO outside beverages permitted.
X-ALT-DESC;FMTTYPE=text/html:Thomaston-Upson Chamber of Commerce Presents Rock on the Block featuring Headgames-a tribute to Foreigner &amp\; Restless Natives-a tribute to the Allman Brothers Band<br />\nBring your chair &amp\; enjoy the music!<br />\nOutside food is allowed.<br />\nNO outside beverages permitted.
LOCATION:Downtown Thomaston Georgia\, West side of the Courthouse Square Bring your chair & enjoy the music! Outside food is allowed. NO outside beverages permitted.
UID:e.2704.457
SEQUENCE:3
DTSTAMP:20260423T212359Z
URL:https://business.thomastongachamber.com/events/details/2022-concert-rock-on-the-block-457
END:VEVENT

END:VCALENDAR
