BEGIN:VCALENDAR
VERSION:2.0
PRODID:-//ChamberMaster//Event Calendar 2.0//EN
METHOD:PUBLISH
X-PUBLISHED-TTL:P3D
REFRESH-INTERVAL:P3D
CALSCALE:GREGORIAN
BEGIN:VEVENT
DTSTART:20210806T210000Z
DTEND:20210807T020000Z
X-MICROSOFT-CDO-ALLDAYEVENT:FALSE
SUMMARY:2021 Concert Rock on the Block
DESCRIPTION:Thomaston-Upson Chamber of Commerce Presents Rock on the Block in Thomaston Georgia With Jumping Jack Flash-Rolling Stones Tribute & The Wildflowers-Tom Petty Tribute Bands
X-ALT-DESC;FMTTYPE=text/html:Thomaston-Upson Chamber of Commerce Presents Rock on the Block in Thomaston Georgia With Jumping Jack Flash-Rolling Stones Tribute &amp\; The Wildflowers-Tom Petty Tribute Bands
LOCATION:Downtown Thomaston Georgia on the Square on the West Main Street side
UID:e.2704.404
SEQUENCE:3
DTSTAMP:20260424T163310Z
URL:https://business.thomastongachamber.com/events/details/2021-concert-rock-on-the-block-404
END:VEVENT

END:VCALENDAR
