BEGIN:VCALENDAR
VERSION:2.0
PRODID:-//ChamberMaster//Event Calendar 2.0//EN
METHOD:PUBLISH
X-PUBLISHED-TTL:P3D
REFRESH-INTERVAL:P3D
CALSCALE:GREGORIAN
BEGIN:VEVENT
DTSTART:20211201T163000Z
DTEND:20211201T180000Z
X-MICROSOFT-CDO-ALLDAYEVENT:FALSE
SUMMARY:2021 Annual Legislative Luncheon
DESCRIPTION:Thomaston Upson Chamber of Commerce Annual Legislative Luncheon\n\nSponsored By: T-U Chamber\, NorthRidge Church\, RUSH Ministries and United Bank Thomaston\n\n\n\nSpecial Guests: Senator John Kennedy & Representative Beth Camp\n\n\n\nPrice Includes: Program & Boxed Lunch
X-ALT-DESC;FMTTYPE=text/html:Thomaston Upson Chamber of Commerce Annual Legislative Luncheon<br />\nSponsored By: T-U Chamber\, NorthRidge Church\, RUSH Ministries and United Bank Thomaston<br />\n<br />\nSpecial Guests: Senator John Kennedy &amp\; Representative Beth Camp<br />\n<br />\nPrice Includes: Program &amp\; Boxed Lunch
LOCATION:The Ridge 430 Hickory Ridge Road Meansville\, GA 30256
UID:e.2704.405
SEQUENCE:3
DTSTAMP:20260424T095507Z
URL:https://business.thomastongachamber.com/events/details/2021-annual-legislative-luncheon-405
END:VEVENT

END:VCALENDAR
