BEGIN:VCALENDAR
VERSION:2.0
PRODID:-//ChamberMaster//Event Calendar 2.0//EN
METHOD:PUBLISH
X-PUBLISHED-TTL:P3D
REFRESH-INTERVAL:P3D
CALSCALE:GREGORIAN
BEGIN:VEVENT
DTSTART:20220611T140000Z
DTEND:20220611T210000Z
X-MICROSOFT-CDO-ALLDAYEVENT:FALSE
SUMMARY:12th Annual Flint River Poker Float
DESCRIPTION:The 12th Annual Flint River Poker Float event will be held on Saturday\, June 11 beginning at Sprewell Bluff Park and ending at the Flint River Outdoor Center.\n\nParticipants may choose a $40\, $50\, or $60 Card Package to play that day. Registration comes with a unique t-shirt and a chance to win a new Kayak as the 1st Place Prize\, $250 as 2nd Place Prize and $150 as the 3rd Place Prize. Best 5 Card Stud hand Wins!
X-ALT-DESC;FMTTYPE=text/html:<span style="color: rgb(51\, 51\, 51)\; font-family: sans-serif\, Arial\, Verdana\, &quot\;Trebuchet MS&quot\;\; font-size: 13px\; background-color: rgb(255\, 255\, 255)\;">The 12th Annual Flint River Poker Float event will be held on Saturday\, June 11 beginning at Sprewell Bluff Park and ending at the Flint River Outdoor Center.</span><br style="color: rgb(51\, 51\, 51)\; font-family: sans-serif\, Arial\, Verdana\, &quot\;Trebuchet MS&quot\;\; font-size: 13px\;" />\n<span style="color: rgb(51\, 51\, 51)\; font-family: sans-serif\, Arial\, Verdana\, &quot\;Trebuchet MS&quot\;\; font-size: 13px\; background-color: rgb(255\, 255\, 255)\;">Participants may choose a $40\, $50\, or $60 Card Package to play that day. Registration comes with a unique t-shirt and a chance to win a new Kayak as the 1st Place Prize\, $250 as 2nd Place Prize and $150 as the 3rd Place Prize. Best 5 Card Stud hand Wins!</span>
LOCATION:Event will begin at Sprewell Bluff Park in Upson County and will end at the Flint River Outdoor Center @ the 36 Hwy Bridge Upson/Talbot County line.
UID:e.2704.450
SEQUENCE:3
DTSTAMP:20260424T000118Z
URL:https://business.thomastongachamber.com/events/details/12th-annual-flint-river-poker-float-450
END:VEVENT

END:VCALENDAR
